BEGIN:VCALENDAR
VERSION:2.0
PRODID:-//ChamberMaster//Event Calendar 2.0//EN
METHOD:PUBLISH
X-PUBLISHED-TTL:P3D
REFRESH-INTERVAL:P3D
CALSCALE:GREGORIAN
BEGIN:VEVENT
DTSTART:20260122T170000Z
DTEND:20260122T210000Z
X-MICROSOFT-CDO-ALLDAYEVENT:FALSE
SUMMARY:GMHBA Cookout & Membership Drive
DESCRIPTION:GMHBA Cookout & Membership Drive
X-ALT-DESC;FMTTYPE=text/html:GMHBA Cookout &amp\; Membership Drive&nbsp\;
LOCATION:Froggy Bottom Highway 80 East Pike Road\, AL
UID:e.9655.359
SEQUENCE:3
DTSTAMP:20260425T162608Z
URL:http://findapro.gmhba.org/events/details/gmhba-cookout-membership-drive-359
END:VEVENT

END:VCALENDAR
