BEGIN:VCALENDAR
VERSION:2.0
PRODID:-//ChamberMaster//Event Calendar 2.0//EN
METHOD:PUBLISH
X-PUBLISHED-TTL:P3D
REFRESH-INTERVAL:P3D
CALSCALE:GREGORIAN
BEGIN:VEVENT
DTSTART;VALUE=DATE:20260210
DTEND;VALUE=DATE:20260212
TRANSP:TRANSPARENT
X-MICROSOFT-CDO-ALLDAYEVENT:TRUE
SUMMARY:HBAA Winter Meeting
DESCRIPTION:HBAA Winter Meeting
X-ALT-DESC;FMTTYPE=text/html:HBAA Winter Meeting&nbsp\;
LOCATION:Embassy Suites Montgomery
UID:e.9655.363
SEQUENCE:3
DTSTAMP:20260425T150158Z
URL:http://findapro.gmhba.org/events/details/hbaa-winter-meeting-363
END:VEVENT

END:VCALENDAR
